BEGIN:VCALENDAR
VERSION:2.0
PRODID:-//Silver Connections - ECPv6.15.20//NONSGML v1.0//EN
CALSCALE:GREGORIAN
METHOD:PUBLISH
X-WR-CALNAME:Silver Connections
X-ORIGINAL-URL:https://silverconnections.com
X-WR-CALDESC:Events for Silver Connections
REFRESH-INTERVAL;VALUE=DURATION:PT1H
X-Robots-Tag:noindex
X-PUBLISHED-TTL:PT1H
BEGIN:VTIMEZONE
TZID:UTC
BEGIN:STANDARD
TZOFFSETFROM:+0000
TZOFFSETTO:+0000
TZNAME:UTC
DTSTART:20250101T000000
END:STANDARD
END:VTIMEZONE
BEGIN:VEVENT
DTSTART;TZID=UTC:20260331T080000
DTEND;TZID=UTC:20260331T153000
DTSTAMP:20260417T120153
CREATED:20260223T172752Z
LAST-MODIFIED:20260223T172752Z
UID:10000002-1774944000-1774971000@silverconnections.com
SUMMARY:Care Manager Lollapalooza
DESCRIPTION:Come join us for this fabulous 5-CE event for Case Managers\, Social Workers\, Nurses in Northlake IL. 3/31/26 \n5 CE for CCM/ACMA/SW/LCPC/APN/Nursing/ Content includes required CE’s for State of IL licensure\, new regulations\, innovations in care and case management. \nParking/free Wi fi/Breakfast/Lunch/chance for prizes are all included in the low registration rate of only $55 for the whole day. Bring a guest for only $10 more! \nCome join us for a day to reinvigorate meaning in your practice\, network with peers and explore new resources at our exhibit fair! \nhttps://lp.constantcontactpages.com/ev/reg/b3rxtxs/lp/d5c29854-7df9-4053-8131-922bea30cca7 \n  \n  \n  \nExhibit at the Care Manager Lollapalooza!\nOur Care Manager Lollapalooza event is back at the Midwest Conference Center\, Northlake\, IL on Tuesday March 31th – Looking for a few more sponsors\, we will have over 100 Care Managers at this annual event. Don’t miss out—register now and join us with our effort in creating a supportive community where care managers and service providers can navigate the challenges of elder care together\, all while having a little fun along the way!. Can’t wait to see all of you. Spring 26 Care Manager Lollapalooza\nLocation: Midwest Conference Center\, 401 W Lake St\, Northlake\, IL 60164 \nDate and time: Tue\, Mar 31\, 2026 7:30 AM – 2:00 PM CT \nOrganizer: Thomas Evans\, (847) 373-1712\, pat@silverconnections.com \nhttps://lp.constantcontactpages.com/ev/reg/hhmub4r
URL:https://silverconnections.com/event/care-manager-lollapalooza/
LOCATION:Midwest Conference Center\, 104 W. Lake St\, Northlake\, IL\, 60164\, United States
END:VEVENT
END:VCALENDAR